BEGIN:VCALENDAR
VERSION:2.0
PRODID:-//Regal Pointe at Deer Creek - ECPv6.15.20//NONSGML v1.0//EN
CALSCALE:GREGORIAN
METHOD:PUBLISH
X-ORIGINAL-URL:https://regalpthoa.org
X-WR-CALDESC:Events for Regal Pointe at Deer Creek
REFRESH-INTERVAL;VALUE=DURATION:PT1H
X-Robots-Tag:noindex
X-PUBLISHED-TTL:PT1H
BEGIN:VTIMEZONE
TZID:America/New_York
BEGIN:DAYLIGHT
TZOFFSETFROM:-0500
TZOFFSETTO:-0400
TZNAME:EDT
DTSTART:20250309T070000
END:DAYLIGHT
BEGIN:STANDARD
TZOFFSETFROM:-0400
TZOFFSETTO:-0500
TZNAME:EST
DTSTART:20251102T060000
END:STANDARD
BEGIN:DAYLIGHT
TZOFFSETFROM:-0500
TZOFFSETTO:-0400
TZNAME:EDT
DTSTART:20260308T070000
END:DAYLIGHT
BEGIN:STANDARD
TZOFFSETFROM:-0400
TZOFFSETTO:-0500
TZNAME:EST
DTSTART:20261101T060000
END:STANDARD
BEGIN:DAYLIGHT
TZOFFSETFROM:-0500
TZOFFSETTO:-0400
TZNAME:EDT
DTSTART:20270314T070000
END:DAYLIGHT
BEGIN:STANDARD
TZOFFSETFROM:-0400
TZOFFSETTO:-0500
TZNAME:EST
DTSTART:20271107T060000
END:STANDARD
BEGIN:DAYLIGHT
TZOFFSETFROM:-0500
TZOFFSETTO:-0400
TZNAME:EDT
DTSTART:20280312T070000
END:DAYLIGHT
BEGIN:STANDARD
TZOFFSETFROM:-0400
TZOFFSETTO:-0500
TZNAME:EST
DTSTART:20281105T060000
END:STANDARD
END:VTIMEZONE
BEGIN:VEVENT
DTSTART;TZID=America/New_York:20260408T120000
DTEND;TZID=America/New_York:20260408T140000
DTSTAMP:20260424T043533
CREATED:20260308T154756Z
LAST-MODIFIED:20260308T154833Z
UID:1434-1775649600-1775656800@regalpthoa.org
SUMMARY:Book Club at Regal Pointe - open to all
DESCRIPTION:Book Club discussion\, April 8\, Noon – 2 PM.  Open to all Deer Creek Residents. \nBook TBA or see the book club facebook page
URL:https://regalpthoa.org/event/book-club-at-regal-pointe-open-to-all-3/
LOCATION:Regal Pointe Clubhouse
END:VEVENT
BEGIN:VEVENT
DTSTART;TZID=America/New_York:20260409T143000
DTEND;TZID=America/New_York:20260409T153000
DTSTAMP:20260424T043533
CREATED:20251006T152803Z
LAST-MODIFIED:20251006T152803Z
UID:651-1775745000-1775748600@regalpthoa.org
SUMMARY:Regal Pointe HOA Meeting - APRIL 2026
DESCRIPTION:The Regal Pointe HOA Board meets November – April of each year.  All Regal Pointe residents are encouraged to attend.
URL:https://regalpthoa.org/event/regal-pointe-hoa-meeting-april-2026/
LOCATION:Regal Pointe Clubhouse
END:VEVENT
BEGIN:VEVENT
DTSTART;TZID=America/New_York:20260429T120000
DTEND;TZID=America/New_York:20260429T140000
DTSTAMP:20260424T043533
CREATED:20260308T154915Z
LAST-MODIFIED:20260308T154915Z
UID:1437-1777464000-1777471200@regalpthoa.org
SUMMARY:Book Club at Regal Pointe - open to all
DESCRIPTION:Book Club discussion\, April 29\, Noon – 2 PM.  Open to all Deer Creek Residents. \nBook TBA or see the book club facebook page
URL:https://regalpthoa.org/event/book-club-at-regal-pointe-open-to-all-4/
LOCATION:Regal Pointe Clubhouse
END:VEVENT
BEGIN:VEVENT
DTSTART;TZID=America/New_York:20261007T120000
DTEND;TZID=America/New_York:20261007T120000
DTSTAMP:20260424T043533
CREATED:20260423T214846Z
LAST-MODIFIED:20260424T001039Z
UID:1466-1791374400-1791374400@regalpthoa.org
SUMMARY:Book Club at Regal Pointe - open to all
DESCRIPTION:Book Club discussion\, October 7\, Noon at the Regal Pointe Clubhouse.  Open to all Deer Creek Residents. \nBook TBA or see the book club facebook page
URL:https://regalpthoa.org/event/book-club-at-regal-pointe-open-to-all-5/
LOCATION:Regal Pointe Clubhouse
END:VEVENT
BEGIN:VEVENT
DTSTART;TZID=America/New_York:20261028T120000
DTEND;TZID=America/New_York:20261028T120000
DTSTAMP:20260424T043533
CREATED:20260424T001255Z
LAST-MODIFIED:20260424T001255Z
UID:1472-1793188800-1793188800@regalpthoa.org
SUMMARY:Book Club at Regal Pointe - open to all
DESCRIPTION:Book Club discussion\, October 28 \, Noon at the Regal Pointe Clubhouse.  Open to all Deer Creek Residents. \nBook TBA or see the book club facebook page
URL:https://regalpthoa.org/event/book-club-at-regal-pointe-open-to-all-6/
LOCATION:Regal Pointe Clubhouse
END:VEVENT
BEGIN:VEVENT
DTSTART;TZID=America/New_York:20261118T120000
DTEND;TZID=America/New_York:20261118T120000
DTSTAMP:20260424T043533
CREATED:20260424T001348Z
LAST-MODIFIED:20260424T001348Z
UID:1480-1795003200-1795003200@regalpthoa.org
SUMMARY:Book Club at Regal Pointe - open to all
DESCRIPTION:Book Club discussion\, November 18\, Noon at the Regal Pointe Clubhouse.  Open to all Deer Creek Residents. \nBook TBA or see the book club facebook page
URL:https://regalpthoa.org/event/book-club-at-regal-pointe-open-to-all-7/
LOCATION:Regal Pointe Clubhouse
END:VEVENT
BEGIN:VEVENT
DTSTART;TZID=America/New_York:20261209T120000
DTEND;TZID=America/New_York:20261209T120000
DTSTAMP:20260424T043533
CREATED:20260424T001423Z
LAST-MODIFIED:20260424T001423Z
UID:1479-1796817600-1796817600@regalpthoa.org
SUMMARY:Book Club at Regal Pointe - open to all
DESCRIPTION:Book Club discussion\, December 9\, Noon at the Regal Pointe Clubhouse.  Open to all Deer Creek Residents. \nBook TBA or see the book club facebook page
URL:https://regalpthoa.org/event/book-club-at-regal-pointe-open-to-all-8/
LOCATION:Regal Pointe Clubhouse
END:VEVENT
BEGIN:VEVENT
DTSTART;TZID=America/New_York:20270106T120000
DTEND;TZID=America/New_York:20270106T120000
DTSTAMP:20260424T043533
CREATED:20260424T001512Z
LAST-MODIFIED:20260424T001512Z
UID:1478-1799236800-1799236800@regalpthoa.org
SUMMARY:Book Club at Regal Pointe - open to all
DESCRIPTION:Book Club discussion\, January 6\, Noon at the Regal Pointe Clubhouse.  Open to all Deer Creek Residents. \nBook TBA or see the book club facebook page
URL:https://regalpthoa.org/event/book-club-at-regal-pointe-open-to-all-9/
LOCATION:Regal Pointe Clubhouse
END:VEVENT
BEGIN:VEVENT
DTSTART;TZID=America/New_York:20270127T120000
DTEND;TZID=America/New_York:20270127T120000
DTSTAMP:20260424T043533
CREATED:20260424T001746Z
LAST-MODIFIED:20260424T001746Z
UID:1477-1801051200-1801051200@regalpthoa.org
SUMMARY:Book Club at Regal Pointe - open to all
DESCRIPTION:Book Club discussion\, January 27\, Noon at the Regal Pointe Clubhouse.  Open to all Deer Creek Residents. \nBook TBA or see the book club facebook page
URL:https://regalpthoa.org/event/book-club-at-regal-pointe-open-to-all-10/
LOCATION:Regal Pointe Clubhouse
END:VEVENT
BEGIN:VEVENT
DTSTART;TZID=America/New_York:20270217T120000
DTEND;TZID=America/New_York:20270217T120000
DTSTAMP:20260424T043533
CREATED:20260424T001912Z
LAST-MODIFIED:20260424T001947Z
UID:1476-1802865600-1802865600@regalpthoa.org
SUMMARY:Book Club at Regal Pointe - open to all
DESCRIPTION:Book Club discussion\, February 17\, Noon at the Regal Pointe Clubhouse.  Open to all Deer Creek Residents. \nBook recommended by Rona Kelley\nBook:  The Island of Sea Women   Author:  Lisa See \nor see the book club facebook page
URL:https://regalpthoa.org/event/book-club-at-regal-pointe-open-to-all-11/
LOCATION:Regal Pointe Clubhouse
END:VEVENT
BEGIN:VEVENT
DTSTART;TZID=America/New_York:20270310T120000
DTEND;TZID=America/New_York:20270310T120000
DTSTAMP:20260424T043533
CREATED:20260424T002050Z
LAST-MODIFIED:20260424T002050Z
UID:1475-1804680000-1804680000@regalpthoa.org
SUMMARY:Book Club at Regal Pointe - open to all
DESCRIPTION:Book Club discussion\, March 10\, Noon at the Regal Pointe Clubhouse.  Open to all Deer Creek Residents. \nBook TBA or see the book club facebook page
URL:https://regalpthoa.org/event/book-club-at-regal-pointe-open-to-all-12/
LOCATION:Regal Pointe Clubhouse
END:VEVENT
BEGIN:VEVENT
DTSTART;TZID=America/New_York:20270331T120000
DTEND;TZID=America/New_York:20270331T120000
DTSTAMP:20260424T043533
CREATED:20260424T002148Z
LAST-MODIFIED:20260424T002148Z
UID:1488-1806494400-1806494400@regalpthoa.org
SUMMARY:Book Club at Regal Pointe - open to all
DESCRIPTION:Book Club discussion\, March 31\, Noon at the Regal Pointe Clubhouse.  Open to all Deer Creek Residents. \nBook TBA or see the book club facebook page
URL:https://regalpthoa.org/event/book-club-at-regal-pointe-open-to-all-13/
LOCATION:Regal Pointe Clubhouse
END:VEVENT
BEGIN:VEVENT
DTSTART;TZID=America/New_York:20270421T120000
DTEND;TZID=America/New_York:20270421T120000
DTSTAMP:20260424T043533
CREATED:20260424T002526Z
LAST-MODIFIED:20260424T002541Z
UID:1489-1808308800-1808308800@regalpthoa.org
SUMMARY:Book Club at Regal Pointe - open to all
DESCRIPTION:Book Club discussion\, April 21\, Noon at the Regal Pointe Clubhouse.  Open to all Deer Creek Residents. \nBook TBA or see the book club facebook page
URL:https://regalpthoa.org/event/book-club-at-regal-pointe-open-to-all-14/
LOCATION:Regal Pointe Clubhouse
END:VEVENT
END:VCALENDAR